BEGIN:VCALENDAR
VERSION:2.0
PRODID:-//ChamberMaster//Event Calendar 2.0//EN
METHOD:PUBLISH
X-PUBLISHED-TTL:P3D
REFRESH-INTERVAL:P3D
CALSCALE:GREGORIAN
BEGIN:VEVENT
DTSTART:20180411T220000Z
DTEND:20180411T230000Z
X-MICROSOFT-CDO-ALLDAYEVENT:FALSE
SUMMARY:Free Sleep Consultant Class at Lokoff Abramson Early Learning Center
DESCRIPTION:Is your little one having trouble sleeping through the night? Hear Melissa Doman\, a certified SleepSense Consultant provide helpful tips and tricks for you and your child. There will also be an opportunity to speak with Lokoff Abramson Center Director Amanda Schaible and a parent whose infant is currently enrolled at our center.
X-ALT-DESC;FMTTYPE=text/html:Is your little one having trouble sleeping through the night? Hear Melissa Doman\, a certified SleepSense Consultant provide helpful tips and tricks for you and your child. There will also be an opportunity to speak with Lokoff Abramson Center Director Amanda Schaible and a parent whose infant is currently enrolled at our center.
LOCATION:Lokoff Abramson Early Learning Center 1920 Skippack Pike Blue Bell\, PA 19422
UID:e.2385.4303
SEQUENCE:3
DTSTAMP:20260421T190844Z
URL:https://business.chambergmc.org/events/details/free-sleep-consultant-class-at-lokoff-abramson-early-learning-center-04-11-2018-4303
END:VEVENT

END:VCALENDAR
