BEGIN:VCALENDAR
VERSION:2.0
PRODID:-//ChamberMaster//Event Calendar 2.0//EN
METHOD:PUBLISH
X-PUBLISHED-TTL:P3D
REFRESH-INTERVAL:P3D
CALSCALE:GREGORIAN
BEGIN:VEVENT
DTSTART:20191012T120000Z
DTEND:20191012T130000Z
X-MICROSOFT-CDO-ALLDAYEVENT:FALSE
SUMMARY:Free Trial Class - Experience THE MAX Challenge
DESCRIPTION:THE MAX Challenge combines exciting fitness classes\, nutrition counseling\, and motivation to help our members make fast and LASTING changes to their health\, appearance\, and overall well-being in just 10 weeks. Now is the perfect time to see what we're all about with a FREE trial class! Join us on SATURDAY\, 10/12\, at 8am! Meet our team\, get an awesome workout\, and get your questions answered. REGISTER NOW: https://app.skipio.com/-6yoSGd Learn why more and more people are cancelling their gym memberships for the nation's MOST EFFECTIVE 45-minute workout. ?? See you there!
X-ALT-DESC;FMTTYPE=text/html:THE MAX Challenge combines exciting fitness classes\, nutrition counseling\, and motivation to help our members make fast and LASTING changes to their health\, appearance\, and overall well-being in just 10 weeks. Now is the perfect time to see what we&#39\;re all about with a FREE trial class! Join us on SATURDAY\, 10/12\, at 8am! Meet our team\, get an awesome workout\, and get your questions answered. REGISTER NOW: https://app.skipio.com/-6yoSGd Learn why more and more people are cancelling their gym memberships for the nation&#39\;s MOST EFFECTIVE 45-minute workout. ?? See you there!
LOCATION:411 Doylestown Road Montgomeryville PA 18936
UID:e.2385.10143
SEQUENCE:3
DTSTAMP:20260423T165517Z
URL:https://business.chambergmc.org/events/details/free-trial-class-experience-the-max-challenge-10143
END:VEVENT

END:VCALENDAR
