BEGIN:VCALENDAR
VERSION:2.0
PRODID:-//ChamberMaster//Event Calendar 2.0//EN
METHOD:PUBLISH
X-PUBLISHED-TTL:P3D
REFRESH-INTERVAL:P3D
CALSCALE:GREGORIAN
BEGIN:VEVENT
DTSTART:20190907T130000Z
DTEND:20190907T140000Z
X-MICROSOFT-CDO-ALLDAYEVENT:FALSE
SUMMARY:Free Trial Class - THE MAX Challenge of Montgomeryville PA
DESCRIPTION:Our Grand Opening is approaching and we're SUPER excited to meet our new members and introduce the program to potential members! You're invited to join us for a FREE trial class on September 7th at 9 AM. The class will be at The Holiday Inn Lansdale - Hatfield. While our beautiful new facility is under construction\, we want to give you a chance to see what THE MAX Challenge is all about by hosting a trial workout and information session. The class will surely inspire you to go after your goals! Please feel free to join us with no obligation\, BUT if you do decide that THE MAX Challenge is right for you\, be sure to take advantage of our pre-sale discounted enrollment offer. Just a few spots left at this introductory price! Questions? Call Anu at 267-621-3747 or email: araman@themaxchallenge.com Click the link below to RSVP for the trial class. Space is SUPER limited so RSVP's are required. http://bit.ly/2ZzEV2m The form will automatically stop accepting registrations when the class fills up so don't delay\, reserve your spot today! Click this link to RSVP ? http://bit.ly/2ZzEV2m
X-ALT-DESC;FMTTYPE=text/html:Our Grand Opening is approaching and we&rsquo\;re SUPER excited to meet our new members and introduce the program to potential members! You&rsquo\;re invited to join us for a FREE trial class on September 7th at 9 AM. The class will be at The Holiday Inn Lansdale - Hatfield. While our beautiful new facility is under construction\, we want to give you a chance to see what THE MAX Challenge is all about by hosting a trial workout and information session. The class will surely inspire you to go after your goals! Please feel free to join us with no obligation\, BUT if you do decide that THE MAX Challenge is right for you\, be sure to take advantage of our pre-sale discounted enrollment offer. Just a few spots left at this introductory price! Questions? Call Anu at 267-621-3747 or email: araman@themaxchallenge.com Click the link below to RSVP for the trial class. Space is SUPER limited so RSVP&rsquo\;s are required. http://bit.ly/2ZzEV2m The form will automatically stop accepting registrations when the class fills up so don&rsquo\;t delay\, reserve your spot today! Click this link to RSVP ? http://bit.ly/2ZzEV2m
LOCATION:Holiday Inn Lansdale-Hatfield 1750 Sumneytown Pike ulpsville\, Pennsylvania 19443
UID:e.2385.10091
SEQUENCE:3
DTSTAMP:20260423T182558Z
URL:https://business.chambergmc.org/events/details/free-trial-class-the-max-challenge-of-montgomeryville-pa-10091
END:VEVENT

END:VCALENDAR
