BEGIN:VCALENDAR
VERSION:2.0
PRODID:-//ChamberMaster//Event Calendar 2.0//EN
METHOD:PUBLISH
X-PUBLISHED-TTL:P3D
REFRESH-INTERVAL:P3D
CALSCALE:GREGORIAN
BEGIN:VEVENT
DTSTART:20181005T160000Z
DTEND:20181005T170000Z
X-MICROSOFT-CDO-ALLDAYEVENT:FALSE
SUMMARY:FREE Wealth Management Seminar Series
DESCRIPTION:A four part financial education series courtesy of Whitemarsh Township Parks and Recreation and Kodiak Wealth Management. Learn from industry experts how to plan for goals\, use different investment vehicles to achieve your goals\, how to create your own paycheck in retirement\, and make sure your loved ones are taken care of. This is a FREE event that includes lunch. It is NOT required to attend all four classes: 10/12\, 10/19\, 10/26
X-ALT-DESC;FMTTYPE=text/html:A four part financial education series courtesy of Whitemarsh Township Parks and Recreation and Kodiak Wealth Management. Learn from industry experts how to plan for goals\, use different investment vehicles to achieve your goals\, how to create your own paycheck in retirement\, and make sure your loved ones are taken care of. This is a FREE event that includes lunch. It is NOT required to attend all four classes: 10/12\, 10/19\, 10/26
LOCATION:Parks and Recreation Building at Miles Park 4021 Joshua Road Lafayette Hill\, PA 19444
UID:e.2385.8012
SEQUENCE:3
DTSTAMP:20260422T014437Z
URL:https://business.chambergmc.org/events/details/free-wealth-management-seminar-series-8012
END:VEVENT

END:VCALENDAR
