BEGIN:VCALENDAR
VERSION:2.0
PRODID:-//ChamberMaster//Event Calendar 2.0//EN
METHOD:PUBLISH
X-PUBLISHED-TTL:P3D
REFRESH-INTERVAL:P3D
CALSCALE:GREGORIAN
BEGIN:VEVENT
DTSTART:20180320T230000Z
DTEND:20180321T010000Z
X-MICROSOFT-CDO-ALLDAYEVENT:FALSE
SUMMARY:Game Night
DESCRIPTION:Game Night at the Winery. Bring your board games\, Bring your friends. Play for a while and enjoy some wine. We host game night every 3rd Tuesday of the month.
X-ALT-DESC;FMTTYPE=text/html:Game Night at the Winery. Bring your board games\, Bring your friends. Play for a while and enjoy some wine. We host game night every 3rd Tuesday of the month.
LOCATION:Cardinal Hollow Winery\, 1830 West Point Pike\, Lansdale\, PA 19446
UID:e.2385.3259
SEQUENCE:3
DTSTAMP:20260421T162117Z
URL:https://business.chambergmc.org/events/details/game-night-03-20-2018-3259
END:VEVENT

END:VCALENDAR
