BEGIN:VCALENDAR
VERSION:2.0
PRODID:-//ChamberMaster//Event Calendar 2.0//EN
METHOD:PUBLISH
X-PUBLISHED-TTL:P3D
REFRESH-INTERVAL:P3D
CALSCALE:GREGORIAN
BEGIN:VEVENT
DTSTART:20191201T150000Z
DTEND:20191201T200000Z
X-MICROSOFT-CDO-ALLDAYEVENT:FALSE
SUMMARY:Gingerbread House Decorating Party
DESCRIPTION:Join Whitemarsh Township Parks and Recreation for the annual Gingerbread House Decorating Party! Participants are supplied with a constructed house and materials - and bring their creativity! Participants are encouraged to bring their own supplies from home if they see fit. Parent supervision is required. NEW this year: TWO time slots! 10am-12pm or 1-3pm. Cost is $15 per house and registration can be done online at www.whitemarshparks.org or over the phone by calling 610-828-7276. **This program is not recommended for children under the age of 4**
X-ALT-DESC;FMTTYPE=text/html:Join Whitemarsh Township Parks and Recreation for the annual Gingerbread House Decorating Party! Participants are supplied with a constructed house and materials - and bring their creativity! Participants are encouraged to bring their own supplies from home if they see fit. Parent supervision is required. NEW this year: TWO time slots! 10am-12pm or 1-3pm. Cost is $15 per house and registration can be done online at www.whitemarshparks.org or over the phone by calling 610-828-7276. **This program is not recommended for children under the age of 4**
LOCATION:Cedar Grove Barn 100 Cedar Grove Road Conshohocken\, PA
UID:e.2385.10069
SEQUENCE:3
DTSTAMP:20260423T144739Z
URL:https://business.chambergmc.org/events/details/gingerbread-house-decorating-party-10069
END:VEVENT

END:VCALENDAR
