BEGIN:VCALENDAR
VERSION:2.0
PRODID:-//ChamberMaster//Event Calendar 2.0//EN
METHOD:PUBLISH
X-PUBLISHED-TTL:P3D
REFRESH-INTERVAL:P3D
CALSCALE:GREGORIAN
BEGIN:VEVENT
DTSTART:20171128T220000Z
DTEND:20171129T000000Z
X-MICROSOFT-CDO-ALLDAYEVENT:FALSE
SUMMARY:Giving Tuesday Happy Hour
DESCRIPTION:November 28th will mark the 5th Annual National Day of Giving\, #GivingTuesday- a day of giving for you to kick off your holiday season. Join Angel Flight East at The Whitpain Tavern to celebrate Giving Tuesday and support our mission of providing free air travel to people in need of medical treatment far from home. In honor of Angel Flight East's 25th Anniversary\, there will be .25 wings and $2.50 drafts\, along with live music. A portion of the proceeds will be donated back to AFE. We hope to see you there!
X-ALT-DESC;FMTTYPE=text/html:November 28th will mark the 5th Annual National Day of Giving\, #GivingTuesday- a day of giving for you to kick off your holiday season. Join Angel Flight East at The Whitpain Tavern to celebrate Giving Tuesday and support our mission of providing free air travel to people in need of medical treatment far from home. In honor of Angel Flight East&#39\;s 25th Anniversary\, there will be .25 wings and $2.50 drafts\, along with live music. A portion of the proceeds will be donated back to AFE. We hope to see you there!
LOCATION:Whitpain Tavern 1529 DeKalb Pike Blue Bell\, PA 19422
UID:e.2385.2659
SEQUENCE:3
DTSTAMP:20260421T122906Z
URL:https://business.chambergmc.org/events/details/giving-tuesday-happy-hour-11-28-2017-2659
END:VEVENT

END:VCALENDAR
