BEGIN:VCALENDAR
VERSION:2.0
PRODID:-//ChamberMaster//Event Calendar 2.0//EN
METHOD:PUBLISH
X-PUBLISHED-TTL:P3D
REFRESH-INTERVAL:P3D
CALSCALE:GREGORIAN
BEGIN:VEVENT
DTSTART:20180315T140000Z
DTEND:20180315T150000Z
X-MICROSOFT-CDO-ALLDAYEVENT:FALSE
SUMMARY:Go Further with Food
DESCRIPTION:March is National Nutrition Month and this year's theme is "Go Further with Food." Celebrate with Registered Dietitian Jill Kwasny as she focuses on key nutrients that are important for health and energy. Identify vitamins and minerals that may be lacking in your diet and discover those nutrient dense foods that pack a real punch. Our talented Catering Coordinator\, Amy Shalongo\, will entertain you with a delicious cooking demo and provide delicious samples to enjoy. This free program will be held on Thursday\, March 15th in the McCaffrey's Market in Blue Bell located 1301 Skippack Pike from 10:00   11:00 in the Beer Garden. RSVP to nutritionist@Mccaffreys.com or call 215 750-7713 to reserve your seat. You can also RSVP at the store.
X-ALT-DESC;FMTTYPE=text/html:March is National Nutrition Month and this year&rsquo\;s theme is &ldquo\;Go Further with Food.&rdquo\; Celebrate with Registered Dietitian Jill Kwasny as she focuses on key nutrients that are important for health and energy. Identify vitamins and minerals that may be lacking in your diet and discover those nutrient dense foods that pack a real punch. Our talented Catering Coordinator\, Amy Shalongo\, will entertain you with a delicious cooking demo and provide delicious samples to enjoy. This free program will be held on Thursday\, March 15th in the McCaffrey&rsquo\;s Market in Blue Bell located 1301 Skippack Pike from 10:00 &ndash\; 11:00 in the Beer Garden. RSVP to nutritionist@Mccaffreys.com or call 215 750-7713 to reserve your seat. You can also RSVP at the store.
LOCATION:Blue Bell McCaffrey's Food Markets\, 1301 Skippack Pike
UID:e.2385.3251
SEQUENCE:3
DTSTAMP:20260421T164107Z
URL:https://business.chambergmc.org/events/details/go-further-with-food-03-15-2018-3251
END:VEVENT

END:VCALENDAR
