BEGIN:VCALENDAR
VERSION:2.0
PRODID:-//ChamberMaster//Event Calendar 2.0//EN
METHOD:PUBLISH
X-PUBLISHED-TTL:P3D
REFRESH-INTERVAL:P3D
CALSCALE:GREGORIAN
BEGIN:VEVENT
DTSTART:20180803T170000Z
DTEND:20180803T230000Z
X-MICROSOFT-CDO-ALLDAYEVENT:FALSE
SUMMARY:Grand View Auxiliary 45th Annual Golf Tournament
DESCRIPTION:Calling all golfers! Enjoy a luncheon\, play a round of golf\, and share a delicious dinner with friends at the Auxiliary's 45th Annual Golf Tournament on Friday\, August 3\, 2018\, at the Indian Valley Country Club. Shotgun Start at 1:00 pm! Being offered again this year "Divots and Dinner"   a two-hour golf Academy appropriate for novice and advanced players. For more details or to register online\, visit www.gvh.org/golf For more information or questions\, please contact Martha Otto\, Tournament Chair\, at 215-513-3935.
X-ALT-DESC;FMTTYPE=text/html:Calling all golfers! Enjoy a luncheon\, play a round of golf\, and share a delicious dinner with friends at the Auxiliary&rsquo\;s 45th Annual Golf Tournament on Friday\, August 3\, 2018\, at the Indian Valley Country Club. Shotgun Start at 1:00 pm! Being offered again this year&hellip\;&rdquo\;Divots and Dinner&rdquo\; &ndash\; a two-hour golf Academy appropriate for novice and advanced players. For more details or to register online\, visit www.gvh.org/golf For more information or questions\, please contact Martha Otto\, Tournament Chair\, at 215-513-3935.
LOCATION:Indian Valley Country Club 650 Bergey Road Telford\, PA 18969
UID:e.2385.7702
SEQUENCE:3
DTSTAMP:20260421T230637Z
URL:https://business.chambergmc.org/events/details/grand-view-auxiliary-45th-annual-golf-tournament-7702
END:VEVENT

END:VCALENDAR
