BEGIN:VCALENDAR
VERSION:2.0
PRODID:-//ChamberMaster//Event Calendar 2.0//EN
METHOD:PUBLISH
X-PUBLISHED-TTL:P3D
REFRESH-INTERVAL:P3D
CALSCALE:GREGORIAN
BEGIN:VEVENT
DTSTART:20191207T130000Z
DTEND:20191207T160000Z
X-MICROSOFT-CDO-ALLDAYEVENT:FALSE
SUMMARY:Grand View Auxiliary Breakfast with Santa
DESCRIPTION:Join Santa for a delicious pancake breakfast in the Grand View Hospital cafeteria. This event is very popular and quickly sells out. Children's price includes face painting and a goody bag. Bring your camera to take photos of children with Santa.
X-ALT-DESC;FMTTYPE=text/html:Join Santa for a delicious pancake breakfast in the Grand View Hospital cafeteria. This event is very popular and quickly sells out. Children&rsquo\;s price includes face painting and a goody bag. Bring your camera to take photos of children with Santa.
LOCATION:Grand View Hospital Cafeteria\, 2nd floor 700 Lawn Avenue Sellersville\, PA 18960
UID:e.2385.10178
SEQUENCE:3
DTSTAMP:20260423T144934Z
URL:https://business.chambergmc.org/events/details/grand-view-auxiliary-breakfast-with-santa-10178
END:VEVENT

END:VCALENDAR
