BEGIN:VCALENDAR
VERSION:2.0
PRODID:-//ChamberMaster//Event Calendar 2.0//EN
METHOD:PUBLISH
X-PUBLISHED-TTL:P3D
REFRESH-INTERVAL:P3D
CALSCALE:GREGORIAN
BEGIN:VEVENT
DTSTART:20180324T120000Z
DTEND:20180324T150000Z
X-MICROSOFT-CDO-ALLDAYEVENT:FALSE
SUMMARY:Grand View Auxiliary "Breakfast with the Easter Bunny"
DESCRIPTION:The Grand View Auxiliary presents "Breakfast with the Easter Bunny" on Saturday\, March 24. Three seatings are available at 8:00\, 9:00 and 10:00 am. Price included breakfast\, photo with the Bunny\, Easter Egg Hunt & other fun activities. Location: Grand View Hospital Cafeteria\, 2nd floor. Reservations are required by calling 215-453-4084.
X-ALT-DESC;FMTTYPE=text/html:The Grand View Auxiliary presents &ldquo\;Breakfast with the Easter Bunny&rdquo\; on Saturday\, March 24. Three seatings are available at 8:00\, 9:00 and 10:00 am. Price included breakfast\, photo with the Bunny\, Easter Egg Hunt &amp\; other fun activities. Location: Grand View Hospital Cafeteria\, 2nd floor. Reservations are required by calling 215-453-4084.
LOCATION:Grand View Hospital Cafeteria\, 2nd floor 700 Lawn Avenue Sellersville\, PA 18960
UID:e.2385.3040
SEQUENCE:3
DTSTAMP:20260421T162329Z
URL:https://business.chambergmc.org/events/details/grand-view-auxiliary-breakfast-with-the-easter-bunny-03-24-2018-3040
END:VEVENT

END:VCALENDAR
