BEGIN:VCALENDAR
VERSION:2.0
PRODID:-//ChamberMaster//Event Calendar 2.0//EN
METHOD:PUBLISH
X-PUBLISHED-TTL:P3D
REFRESH-INTERVAL:P3D
CALSCALE:GREGORIAN
BEGIN:VEVENT
DTSTART:20180304T170000Z
DTEND:20180304T203000Z
X-MICROSOFT-CDO-ALLDAYEVENT:FALSE
SUMMARY:Grand View Auxiliary "Designer Bag BINGO"
DESCRIPTION:The Grand View Auxiliary will be holding a "Designer Bag Bingo" on Sunday\, March 4\, at the Sellersville Fire Department Banquet Hall. Doors open at noon\, and BINGO begins at 1:00 pm. $30 per person in advance\; $25 per person for a group of 10 or more\; $35 per person at the door. Price includes 10 rounds of Regular BINGO and door prize entry. Additional costs for three Special BINGO Games ($5 each)\, Raffles and 50/50 Drawing. Refreshments available for purchase. All proceeds are pledge to support the Neonatal Intensive Care Unit at Grand View Health. Tickets can be purchased online at www.gvh.org/bingo\, or email Auxiliary@gvh.org\, or call 215-453-4381.
X-ALT-DESC;FMTTYPE=text/html:The Grand View Auxiliary will be holding a &ldquo\;Designer Bag Bingo&rdquo\; on Sunday\, March 4\, at the Sellersville Fire Department Banquet Hall. Doors open at noon\, and BINGO begins at 1:00 pm. $30 per person in advance\; $25 per person for a group of 10 or more\; $35 per person at the door. Price includes 10 rounds of Regular BINGO and door prize entry. Additional costs for three Special BINGO Games ($5 each)\, Raffles and 50/50 Drawing. Refreshments available for purchase. All proceeds are pledge to support the Neonatal Intensive Care Unit at Grand View Health. Tickets can be purchased online at www.gvh.org/bingo\, or email Auxiliary@gvh.org\, or call 215-453-4381.
LOCATION:Sellersville Fire Department Banquet Hall\, 2 N. Main Street\, Sellersville\, PA
UID:e.2385.3043
SEQUENCE:3
DTSTAMP:20260421T163215Z
URL:https://business.chambergmc.org/events/details/grand-view-auxiliary-designer-bag-bingo-03-04-2018-3043
END:VEVENT

END:VCALENDAR
