BEGIN:VCALENDAR
VERSION:2.0
PRODID:-//ChamberMaster//Event Calendar 2.0//EN
METHOD:PUBLISH
X-PUBLISHED-TTL:P3D
REFRESH-INTERVAL:P3D
CALSCALE:GREGORIAN
BEGIN:VEVENT
DTSTART:20190501T140000Z
DTEND:20190501T200000Z
X-MICROSOFT-CDO-ALLDAYEVENT:FALSE
SUMMARY:Greenfield Senior Living Job Fair
DESCRIPTION:Join Greenfield Senior Living for a Job Fair on \n\nWednesday May 1st from 10am - 4pm. \n\n1800 Walnut Street\, Lansdale Pa 19446 (215) 855 1235\n\n\n\nHow Hiring THE BEST OF THE BEST direct care aides\, medication technicians\, line cooks\, matinenance/housekeeping \n\n\n\nYou Must Be :\n\n\n	Energetic\, postivie\, proactive & a team player\n	A High School Graduate or have a GED equivalent\n	Able to read\, write\, speak English\n	Passionate about working with the Elderly \n	18 years of age or older
X-ALT-DESC;FMTTYPE=text/html:<p style="text-align: center\;"><span style="font-size:14px"><span style="font-family:tahoma">Join <span style="font-size:16px"><strong>Greenfield Senior Living </strong></span>for a Job Fair on </span></span></p>\n\n<p style="text-align: center\;"><span style="font-size:14px"><span style="font-family:tahoma">Wednesday May 1st from 10am - 4pm.&nbsp\;</span></span></p>\n\n<p style="text-align: center\;"><span style="font-size:14px"><span style="font-family:tahoma">1800 Walnut Street\, Lansdale Pa 19446 (215) 855 1235</span></span></p>\n\n<p><br />\nHow Hiring <strong>THE BEST OF THE BEST</strong> direct care aides\, medication technicians\, line cooks\, matinenance/housekeeping&nbsp\;<br />\n<br />\nYou Must Be :</p>\n\n<ul>\n	<li>Energetic\, postivie\, proactive &amp\; a team player</li>\n	<li>A High School Graduate or have a GED equivalent</li>\n	<li>Able to read\, write\, speak English</li>\n	<li>Passionate about working with the Elderly&nbsp\;</li>\n	<li>18 years of age or older</li>\n</ul>\n
LOCATION:1800 Walnut Street\, Lansdale Pa 19446
UID:e.2385.8706
SEQUENCE:3
DTSTAMP:20260422T112220Z
URL:https://business.chambergmc.org/events/details/greenfield-senior-living-job-fair-8706
END:VEVENT

END:VCALENDAR
