BEGIN:VCALENDAR
VERSION:2.0
PRODID:-//ChamberMaster//Event Calendar 2.0//EN
METHOD:PUBLISH
X-PUBLISHED-TTL:P3D
REFRESH-INTERVAL:P3D
CALSCALE:GREGORIAN
BEGIN:VEVENT
DTSTART:20191023T230000Z
DTEND:20191024T020000Z
X-MICROSOFT-CDO-ALLDAYEVENT:FALSE
SUMMARY:Grocer Fights Cancer Day
DESCRIPTION:Every year\, McCaffrey's holds a community-giving day\, Grocer Fights Cancer Day\, when five percent of that day's net sales are donated to Abington-Jefferson Health's Asplundh Cancer Pavilion.
X-ALT-DESC;FMTTYPE=text/html:Every year\, McCaffrey&rsquo\;s holds a community-giving day\, Grocer Fights Cancer Day\, when five percent of that day&rsquo\;s net sales are donated to Abington-Jefferson Health&rsquo\;s Asplundh Cancer Pavilion.
LOCATION:McCaffrey's Food Market\, 1301 Skippack Pike\, Blue Bell\, Pennsylvania
UID:e.2385.10154
SEQUENCE:3
DTSTAMP:20260423T182531Z
URL:https://business.chambergmc.org/events/details/grocer-fights-cancer-day-10-23-2019-10154
END:VEVENT

END:VCALENDAR
