BEGIN:VCALENDAR
VERSION:2.0
PRODID:-//ChamberMaster//Event Calendar 2.0//EN
METHOD:PUBLISH
X-PUBLISHED-TTL:P3D
REFRESH-INTERVAL:P3D
CALSCALE:GREGORIAN
BEGIN:VEVENT
DTSTART:20180929T150000Z
DTEND:20180929T210000Z
X-MICROSOFT-CDO-ALLDAYEVENT:FALSE
SUMMARY:Gwynedd Mercy University Fall Festival 2018
DESCRIPTION:Fun for the whole family! In addition to games and other attractions\, there will be a bunch of new activities at this year's Fall Fest\, including... -Live Music from The Burgeoning -Cookoff -Gift Card Bingo Dinner will be available for purchase for $5 per guest. Sponsored by Student Government Association
X-ALT-DESC;FMTTYPE=text/html:Fun for the whole family! In addition to games and other attractions\, there will be a bunch of new activities at this year&#39\;s Fall Fest\, including... -Live Music from The Burgeoning -Cookoff -Gift Card Bingo Dinner will be available for purchase for $5 per guest. Sponsored by Student Government Association
LOCATION:Gwynedd Mercy University 1325 Sumneytown Pike Gwynedd Valley\, PA 19437
UID:e.2385.8050
SEQUENCE:3
DTSTAMP:20260422T003826Z
URL:https://business.chambergmc.org/events/details/gwynedd-mercy-university-fall-festival-2018-8050
END:VEVENT

END:VCALENDAR
