BEGIN:VCALENDAR
VERSION:2.0
PRODID:-//ChamberMaster//Event Calendar 2.0//EN
METHOD:PUBLISH
X-PUBLISHED-TTL:P3D
REFRESH-INTERVAL:P3D
CALSCALE:GREGORIAN
BEGIN:VEVENT
DTSTART:20181025T220000Z
DTEND:20181026T000000Z
X-MICROSOFT-CDO-ALLDAYEVENT:FALSE
SUMMARY:Halloween Bash for special needs children
DESCRIPTION:A FREE trick or treat night especially for special needs children. This event is held in the well-lit gym of the Montgomery Township Community Center so weather isn't a concern. Each of our booth hosts are instructed to provide both candy and non-candy items\, so those with dietary restrictions aren't left out of the fun. Please register your child on our website if you plan to attend.
X-ALT-DESC;FMTTYPE=text/html:A FREE trick or treat night especially for special needs children. This event is held in the well-lit gym of the Montgomery Township Community Center so weather isn&#39\;t a concern. Each of our booth hosts are instructed to provide both candy and non-candy items\, so those with dietary restrictions aren&#39\;t left out of the fun. Please register your child on our website if you plan to attend.
LOCATION:1030 Horsham Road Montgomeryville\, PA 18936
UID:e.2385.8063
SEQUENCE:3
DTSTAMP:20260422T014159Z
URL:https://business.chambergmc.org/events/details/halloween-bash-for-special-needs-children-8063
END:VEVENT

END:VCALENDAR
