BEGIN:VCALENDAR
VERSION:2.0
PRODID:-//ChamberMaster//Event Calendar 2.0//EN
METHOD:PUBLISH
X-PUBLISHED-TTL:P3D
REFRESH-INTERVAL:P3D
CALSCALE:GREGORIAN
BEGIN:VEVENT
DTSTART:20190704T150000Z
DTEND:20190705T020000Z
X-MICROSOFT-CDO-ALLDAYEVENT:FALSE
SUMMARY:Happy 4th of July!
DESCRIPTION:We will be open on Fourth of July. 4th of July Celebration\, come and enjoy with family and friends!
X-ALT-DESC;FMTTYPE=text/html:<span style="color:rgb(29\, 33\, 41)\; font-family:helvetica\,arial\,sans-serif\; font-size:14px">We will be open on Fourth of July. 4th of July Celebration\, come and enjoy with family and friends!</span>
LOCATION:El Sarape 970 Dekalb Pike Blue Bell\, PA 19422
UID:e.2385.8825
SEQUENCE:3
DTSTAMP:20260422T141105Z
URL:https://business.chambergmc.org/events/details/happy-4th-of-july-8825
END:VEVENT

END:VCALENDAR
