BEGIN:VCALENDAR
VERSION:2.0
PRODID:-//ChamberMaster//Event Calendar 2.0//EN
METHOD:PUBLISH
X-PUBLISHED-TTL:P3D
REFRESH-INTERVAL:P3D
CALSCALE:GREGORIAN
BEGIN:VEVENT
DTSTART:20190616T150000Z
DTEND:20190617T020000Z
X-MICROSOFT-CDO-ALLDAYEVENT:FALSE
SUMMARY:Happy Father's Day
DESCRIPTION:Make your Father's Day reservations with El Sarape.  Treat Dad to some fine Authentic Mexican Cuisine.
X-ALT-DESC;FMTTYPE=text/html:Make your Father&#39\;s Day reservations with El Sarape.&nbsp\; Treat Dad to some fine Authentic Mexican Cuisine.
LOCATION:970 Dekalb Pike\, Blue Bell PA 19422
UID:e.2385.8795
SEQUENCE:3
DTSTAMP:20260422T140812Z
URL:https://business.chambergmc.org/events/details/happy-father-s-day-8795
END:VEVENT

END:VCALENDAR
