BEGIN:VCALENDAR
VERSION:2.0
PRODID:-//ChamberMaster//Event Calendar 2.0//EN
METHOD:PUBLISH
X-PUBLISHED-TTL:P3D
REFRESH-INTERVAL:P3D
CALSCALE:GREGORIAN
BEGIN:VEVENT
DTSTART:20180904T200000Z
DTEND:20180904T220000Z
X-MICROSOFT-CDO-ALLDAYEVENT:FALSE
SUMMARY:Happy Hour
DESCRIPTION:St. Mary's Villa is hosting a monthly happy hour the first Tuesday of each month from 4-6p in the Personal Care Community room. Bring your business card\, enjoy some refreshments and make connections!
X-ALT-DESC;FMTTYPE=text/html:St. Mary&#39\;s Villa is hosting a monthly happy hour the first Tuesday of each month from 4-6p in the Personal Care Community room. Bring your business card\, enjoy some refreshments and make connections!
LOCATION:St. Mary Villa PCU 701 Lansdale Ave Lansdale PA 19446
UID:e.2385.7998
SEQUENCE:3
DTSTAMP:20260422T002025Z
URL:https://business.chambergmc.org/events/details/happy-hour-7998
END:VEVENT

END:VCALENDAR
