BEGIN:VCALENDAR
VERSION:2.0
PRODID:-//ChamberMaster//Event Calendar 2.0//EN
METHOD:PUBLISH
X-PUBLISHED-TTL:P3D
REFRESH-INTERVAL:P3D
CALSCALE:GREGORIAN
BEGIN:VEVENT
DTSTART:20171109T210000Z
DTEND:20171109T230000Z
X-MICROSOFT-CDO-ALLDAYEVENT:FALSE
SUMMARY:Harvesting New Connections
DESCRIPTION:Please join us for a cocktail party in appreciation of our professional partners! Receive 2 drinks and appetizers complimentary of Arbour Square and The Birches. Please RSVP by November 6.
X-ALT-DESC;FMTTYPE=text/html:Please join us for a cocktail party in appreciation of our professional partners! Receive 2 drinks and appetizers complimentary of Arbour Square and The Birches. Please RSVP by November 6.
LOCATION:Margaritas Mexican Restaurant 1650 Sumneytown Pike Lansdale\, PA 19446
UID:e.2385.2626
SEQUENCE:3
DTSTAMP:20260421T122854Z
URL:https://business.chambergmc.org/events/details/harvesting-new-connections-11-09-2017-2626
END:VEVENT

END:VCALENDAR
