BEGIN:VCALENDAR
VERSION:2.0
PRODID:-//ChamberMaster//Event Calendar 2.0//EN
METHOD:PUBLISH
X-PUBLISHED-TTL:P3D
REFRESH-INTERVAL:P3D
CALSCALE:GREGORIAN
BEGIN:VEVENT
DTSTART:20181107T230000Z
DTEND:20181108T003000Z
X-MICROSOFT-CDO-ALLDAYEVENT:FALSE
SUMMARY:Health Care Costs & Retirement
DESCRIPTION:How Health Care Costs Can Impact your Retirement. We will provide insightful ideas to start planning for the biggest expense during retirement. Seating is limited - please reserve your seat 215-646-0160. The Event is FREE\; invite a friend! Light refreshments will be served!
X-ALT-DESC;FMTTYPE=text/html:How Health Care Costs Can Impact your Retirement. We will provide insightful ideas to start planning for the biggest expense during retirement. Seating is limited - please reserve your seat 215-646-0160. The Event is FREE\; invite a friend! Light refreshments will be served!
LOCATION:805 N. Bethlehem Pike Garden Level Spring House\, PA 19477
UID:e.2385.8065
SEQUENCE:3
DTSTAMP:20260422T041106Z
URL:https://business.chambergmc.org/events/details/health-care-costs-retirement-8065
END:VEVENT

END:VCALENDAR
