BEGIN:VCALENDAR
VERSION:2.0
PRODID:-//ChamberMaster//Event Calendar 2.0//EN
METHOD:PUBLISH
X-PUBLISHED-TTL:P3D
REFRESH-INTERVAL:P3D
CALSCALE:GREGORIAN
BEGIN:VEVENT
DTSTART:20181102T153000Z
DTEND:20181102T170000Z
X-MICROSOFT-CDO-ALLDAYEVENT:FALSE
SUMMARY:Healthcare Employee Benefits Seminar
DESCRIPTION:Healthcare Employee Benefits Information Session\n\nPresented by My Benefit Advisor
X-ALT-DESC;FMTTYPE=text/html:<strong>Healthcare Employee Benefits Information Session</strong><br />\n<em>Presented by My Benefit Advisor</em>
LOCATION:My Benefits Advisor 1787 Sentry Pkwy W.\, VEVA 16\, Suite 320\, Blue Bell
UID:e.2385.8066
SEQUENCE:3
DTSTAMP:20260422T041232Z
URL:https://business.chambergmc.org/events/details/healthcare-employee-benefits-seminar-11-02-2018-8066
END:VEVENT

END:VCALENDAR
