BEGIN:VCALENDAR
VERSION:2.0
PRODID:-//ChamberMaster//Event Calendar 2.0//EN
METHOD:PUBLISH
X-PUBLISHED-TTL:P3D
REFRESH-INTERVAL:P3D
CALSCALE:GREGORIAN
BEGIN:VEVENT
DTSTART:20181101T120000Z
DTEND:20181102T013000Z
X-MICROSOFT-CDO-ALLDAYEVENT:FALSE
SUMMARY:Healthcare Employee Benefits Seminar
DESCRIPTION:Healthcare Employee Benefits Information Session\n\nPresented by My Benefit Advisor
X-ALT-DESC;FMTTYPE=text/html:<strong>Healthcare Employee Benefits Information Session</strong><br />\n<em>Presented by My Benefit Advisor</em>
LOCATION:Chamber Office 217 Church Road\, North Wales\, PA
UID:e.2385.8067
SEQUENCE:3
DTSTAMP:20260422T025617Z
URL:https://business.chambergmc.org/events/details/healthcare-employee-benefits-seminar-8067
END:VEVENT

END:VCALENDAR
