BEGIN:VCALENDAR
VERSION:2.0
PRODID:-//ChamberMaster//Event Calendar 2.0//EN
METHOD:PUBLISH
X-PUBLISHED-TTL:P3D
REFRESH-INTERVAL:P3D
CALSCALE:GREGORIAN
BEGIN:VEVENT
DTSTART:20190321T223000Z
DTEND:20190321T233000Z
X-MICROSOFT-CDO-ALLDAYEVENT:FALSE
SUMMARY:Floral & Hardy Healthy Soil\, Healthy Plants
DESCRIPTION:Join us for this FREE wine & cheese gardening class where you'll learn how to assess your own soil!  Healthy soil is one of the most important factors for ensuring healthy growth of flowering plants and vegetables.  Find out ways to improve and maintain healthy outdoor garden soil\, including how to use a soil test.  The class instructor is Thom Mrazik\, Penn State Extension Master Gardener. \n\n \nPlease RSVP:http://floralandhardyofskippack.com/events/healthy-soil-healthy-plants/
X-ALT-DESC;FMTTYPE=text/html:<div style="text-align:justify"><span style="background-color:transparent\; color:rgb(0\, 0\, 0)\; font-family:arial\,helvetica\,sans-serif\; font-size:13px">Join us for this FREE wine &amp\; cheese gardening class where you&rsquo\;ll learn how to assess your own soil!&nbsp\; Healthy soil is one of the most important factors for ensuring healthy growth of flowering plants and vegetables.&nbsp\; Find out ways to improve and maintain healthy outdoor garden soil\, including how to use a soil test.&nbsp\; The class instructor is Thom Mrazik\, Penn State Extension Master Gardener. </span><br />\n&nbsp\;</div>\n<span style="background-color:transparent\; color:rgb(0\, 0\, 0)\; font-family:arial\,helvetica\,sans-serif\; font-size:13px">Please RSVP:<a href="http://floralandhardyofskippack.com/events/healthy-soil-healthy-plants/">http://floralandhardyofskippack.com/events/healthy-soil-healthy-plants/</a></span>
LOCATION:Floral & Hardy 4007 Skippack Pike Skippack\, PA 19474
UID:e.2385.8191
SEQUENCE:3
DTSTAMP:20260422T094538Z
URL:https://business.chambergmc.org/events/details/healthy-soil-healthy-plants-8191
END:VEVENT

END:VCALENDAR
