BEGIN:VCALENDAR
VERSION:2.0
PRODID:-//ChamberMaster//Event Calendar 2.0//EN
METHOD:PUBLISH
X-PUBLISHED-TTL:P3D
REFRESH-INTERVAL:P3D
CALSCALE:GREGORIAN
BEGIN:VEVENT
DTSTART:20180301T000000Z
DTEND:20180301T020000Z
X-MICROSOFT-CDO-ALLDAYEVENT:FALSE
SUMMARY:Heart\, Health & Hangers!
DESCRIPTION:JOIN US Wednesday\, February 28th to shop at CH  BELLA and learn about how to make your heart & health happier in 2018! A fun night out to enjoy friends\, wine\, good health and shopping!  \n\n \n\nCheck out:  https://m.facebook.com/CheBellaSkippack/?tsid=0.9330330931521523&source=result\n\nNot on Facebook?  Call Ch  Bella for details & get yourself registered!
X-ALT-DESC;FMTTYPE=text/html:<p><span style="color:rgb(29\, 33\, 41)\; font-family:sf optimized\,system-ui\,-apple-system\,blinkmacsystemfont\,.sfnstext-regular\,sans-serif\; font-size:14px">JOIN US Wednesday\, February 28th to shop at CH&Eacute\; BELLA and learn about how to make your heart &amp\; health happier in 2018!&nbsp\;</span><span style="color:rgb(29\, 33\, 41)\; font-size:14px">A fun night out to enjoy friends\, wine\, good health and shopping! &nbsp\;</span></p>\n\n<p>&nbsp\;</p>\n\n<p><span style="color:rgb(29\, 33\, 41)\; font-family:sf optimized\,system-ui\,-apple-system\,blinkmacsystemfont\,.sfnstext-regular\,sans-serif\; font-size:14px">Check out:&nbsp\;&nbsp\;</span><a href="https://m.facebook.com/CheBellaSkippack/?tsid=0.9330330931521523&amp\;source=result" rel="nofollow" style="transition: 300ms\; text-decoration: none !important\; outline: none !important\; color: rgb(54\, 88\, 153)\; cursor: pointer\; font-family: &quot\;SF Optimized&quot\;\, system-ui\, -apple-system\, BlinkMacSystemFont\, &quot\;.SFNSText-Regular&quot\;\, sans-serif\; font-size: 14px\; letter-spacing: -0.11999999731779099px\;"><span style="font-family:inherit">https://m.facebook.com/</span><span style="font-family:inherit">CheBellaSkippack/</span><span style="font-family:inherit">?tsid=0.9330330931521523&amp\;so</span>urce=result</a></p>\n\n<p>Not on Facebook? &nbsp\;Call Ch&eacute\; Bella for details &amp\; get yourself registered!</p>\n
LOCATION:4063 Skippack Pike Skippack\, PA 19474 267-767-0718
UID:e.2385.3034
SEQUENCE:3
DTSTAMP:20260421T162455Z
URL:https://business.chambergmc.org/events/details/heart-health-hangers-02-28-2018-3034
END:VEVENT

END:VCALENDAR
