BEGIN:VCALENDAR
VERSION:2.0
PRODID:-//ChamberMaster//Event Calendar 2.0//EN
METHOD:PUBLISH
X-PUBLISHED-TTL:P3D
REFRESH-INTERVAL:P3D
CALSCALE:GREGORIAN
BEGIN:VEVENT
DTSTART:20180323T230000Z
DTEND:20180324T110000Z
X-MICROSOFT-CDO-ALLDAYEVENT:FALSE
SUMMARY:Hibernation Hygge - Overnight Rejuvenation Retreat
DESCRIPTION:THIS IS AN OVERNIGHT EVENT 7 pm Friday till 7 am Saturday!\n\n \n\nIt's almost time to join the critters as they begin to wake up and welcome the new season!\n\nAre you feeling as if you've been living burrowed underground or asleep in a cave somewhere for the past few months? Or maybe you wish you HAD been hibernating?  \n\n \n\nWe're here to help you prepare to come out of hibernation and re-enter the world refreshed and renewed with Skippack's first-ever Hibernation Hygge   an overnight rejuvenation retreat.\n\n \n\nWhat the heck is a Hygge (pronounced HUE-gah)\, you ask?\n\nHygge is the Danish ritual of enjoying life's simple pleasures. The Oxford Dictionary describes hygge as "A quality of coziness and comfortable conviviality that engenders a feeling of contentment or well-being."\n" Each person deserves a day away in which no problems are confronted\, no solutions searched for."\n\n- Maya Angelou\n\nCome and experience a variety of healing practices over the course of the evening\, dedicated to rest and rejuvenation. The retreat includes:\n\n  Lenape Drumming\, Chanting & Storytelling*\n\n  Laughter Yoga**\n\n  Singing Bowl Meditation\n\n  Restorative Yoga\n\n  Sleep / Quiet Time\n\n  Sun Salutation\n\n  Fellowship\n\nSPECIAL GUESTS!\n\n*Paul Tobacco Cashman - Author & Leader of the Unami Creek Lenape Circle will lead the drumming\, chanting & storytelling\n\n**Edie Weinstein   Columnist\, Book Author\, Writer and Blogger\n\nKnown worldwide for her empathy\, compassion and enthusiasm for life\, Edie's books and writings bring comfort\, laughter and insight into everyday life for everyone. Edie will be leading a taste of Laughter Yoga!\n\nTHIS IS YOUR TIME TO SIMPLY "BE" in the moment!\n\nMUST BE 18 OR OLDER TO PARTICIPATE\n\nSPACE IS SMALL AND INTIMATE   LIMITED TO 12 HUMANS - INVESTMENT $95\n\nGUIDELINES:\n\n  Doors open for check-in at 6:30 pm\n\n  The first experience begins promptly at 7 pm\n\n  You are signing up for the entire evening's program\no If there is one element you'd like to see offered "on its own"   please let Linda know!\n\n  We are requesting that folks do not leave and return\, since that might be disruptive to other participants\n\no Exceptions are certainly possible   call Linda directly\n\n  Dress Comfortably\; expect to fall asleep on the floor\, directly after a 2-hour restorative yoga session\n\no There are two couches available   please let Linda know if you need to reserve one of those for a comfy place to sleep\n\n  Bring: Your favorite pillow\, a small reading light if you'd prefer to read instead of sleep\, a light snack if you'd like\, headsets if you want to listen to your own music during sleep / rest time\, a yoga mat for the sun salutation (if the weather is nice enough\, we will do this outside!)\n\n  We will provide blankets\, yoga props\, water\, juice\, some light snacks\,\n\n  There is a small fridge and microwave on the premises\n\n\n\nYour safety is priority #1   you will be locked in\, and the State Police will be notified of the event and will keep watch over night. There are multiple safety cameras and motion lighting outside for our protection. Someone will be awake AT ALL TIMES.\n\n\n\nNO ALCOHOL   NO DRUGS   NO NAKED BODIES\n\nMUST BE 18 OR OLDER TO PARTICIPATE
X-ALT-DESC;FMTTYPE=text/html:<div><span style="color:rgb(255\, 102\, 0)"><strong>THIS IS AN OVERNIGHT EVENT 7 pm Friday till 7 am Saturday!</strong></span></div>\n\n<div>&nbsp\;</div>\n\n<div><strong>It&rsquo\;s almost time to join the critters as they begin to wake up and welcome the new season!</strong><br />\nAre you feeling as if you&rsquo\;ve been living burrowed underground or asleep in a cave somewhere for the past few months? Or maybe you wish you HAD been hibernating?&nbsp\;&nbsp\;</div>\n\n<div>&nbsp\;</div>\n\n<div>We&rsquo\;re here to help you prepare to come out of hibernation and re-enter the world refreshed and renewed with Skippack&rsquo\;s first-ever Hibernation Hygge &ndash\; an overnight rejuvenation retreat.</div>\n\n<div>&nbsp\;</div>\n\n<div><strong>What the heck is a Hygge (pronounced HUE-gah)\, you ask?</strong><br />\nHygge is the Danish ritual of enjoying life&#39\;s simple pleasures. The Oxford Dictionary describes hygge as &ldquo\;A quality of coziness and comfortable conviviality that engenders a feeling of contentment or well-being.&rdquo\;\n<p><strong>&ldquo\; Each person deserves a day away in which no problems are confronted\, no solutions searched for.&rdquo\;</strong><br />\n<strong>- Maya Angelou</strong></p>\n\n<p>Come and experience a variety of healing practices over the course of the evening\, dedicated to rest and rejuvenation. The retreat includes:<br />\n&bull\; Lenape Drumming\, Chanting &amp\; Storytelling*<br />\n&bull\; Laughter Yoga**<br />\n&bull\; Singing Bowl Meditation<br />\n&bull\; Restorative Yoga<br />\n&bull\; Sleep / Quiet Time<br />\n&bull\; Sun Salutation<br />\n&bull\; Fellowship</p>\n\n<p><strong>SPECIAL GUESTS!</strong></p>\n\n<p><strong>*Paul Tobacco Cashman</strong>&nbsp\;- Author &amp\; Leader of the Unami Creek Lenape Circle will lead the drumming\, chanting &amp\; storytelling</p>\n\n<p><strong>**Edie Weinstein</strong>&nbsp\;&ndash\; Columnist\, Book Author\, Writer and Blogger<br />\nKnown worldwide for her empathy\, compassion and enthusiasm for life\, Edie&#39\;s books and writings bring comfort\, laughter and insight into everyday life for everyone. Edie will be leading a taste of Laughter Yoga!</p>\n\n<p style="text-align:center"><strong>THIS IS YOUR TIME TO SIMPLY &ldquo\;BE&rdquo\; in the moment!</strong><br />\n<strong>MUST BE 18 OR OLDER TO PARTICIPATE</strong><br />\n<strong>SPACE IS SMALL AND INTIMATE &ndash\; LIMITED TO 12 HUMANS - INVESTMENT $95</strong></p>\n\n<p>GUIDELINES:<br />\n&bull\; Doors open for check-in at 6:30 pm<br />\n&bull\; The first experience begins promptly at 7 pm<br />\n&bull\; You are signing up for the entire evening&rsquo\;s program</p>\no If there is one element you&rsquo\;d like to see offered &ldquo\;on its own&rdquo\; &ndash\; please let Linda know!\n\n<p>&bull\; We are requesting that folks do not leave and return\, since that might be disruptive to other participants<br />\no Exceptions are certainly possible &ndash\; call Linda directly<br />\n&bull\; Dress Comfortably\; expect to fall asleep on the floor\, directly after a 2-hour restorative yoga session<br />\no There are two couches available &ndash\; please let Linda know if you need to reserve one of those for a comfy place to sleep<br />\n&bull\; Bring: Your favorite pillow\, a small reading light if you&rsquo\;d prefer to read instead of sleep\, a light snack if you&rsquo\;d like\, headsets if you want to listen to your own music during sleep / rest time\, a yoga mat for the sun salutation (if the weather is nice enough\, we will do this outside!)<br />\n&bull\; We will provide blankets\, yoga props\, water\, juice\, some light snacks\,<br />\n&bull\; There is a small fridge and microwave on the premises</p>\n\n<p><br />\n<strong>Your safety is priority #1 &ndash\; you will be locked in\, and the State Police will be notified of the event and will keep watch over night. There are multiple safety cameras and motion lighting outside for our protection. Someone will be awake AT ALL TIMES.</strong></p>\n\n<p style="text-align:center"><br />\n<strong>NO ALCOHOL &ndash\; NO DRUGS &ndash\; NO NAKED BODIES</strong></p>\n\n<p>MUST BE 18 OR OLDER TO PARTICIPATE</p>\n\n<p>&nbsp\;</p>\n</div>\n
LOCATION:Why Not Sprout?! 4039 Skippack Pike Skippack PA 19474 Sign up through our website on the events page at https://whynotsprout.com/special-events-2/
UID:e.2385.3263
SEQUENCE:3
DTSTAMP:20260421T164409Z
URL:https://business.chambergmc.org/events/details/hibernation-hygge-overnight-rejuvenation-retreat-03-23-2018-3263
END:VEVENT

END:VCALENDAR
