BEGIN:VCALENDAR
VERSION:2.0
PRODID:-//ChamberMaster//Event Calendar 2.0//EN
METHOD:PUBLISH
X-PUBLISHED-TTL:P3D
REFRESH-INTERVAL:P3D
CALSCALE:GREGORIAN
BEGIN:VEVENT
DTSTART:20180324T140000Z
DTEND:20180324T180000Z
X-MICROSOFT-CDO-ALLDAYEVENT:FALSE
SUMMARY:Hidden Meadows on the Ridge - OPEN HOUSE EVENT
DESCRIPTION:Come Check out Bucks County's Best Kept Secret in Senior Living!\n\n\n\nOn Saturday\, March 24th\, 2018 from 10:00am-2:00pm\, Hidden Meadows on the Ridge and the Laurels Memory Care Community will be hosting an Open House. Tour our beautiful community and meet our staff! Refreshments and giveaways will be provided. Reservations suggested\, Walk-ins welcome. We hope to see you there!\n\nHidden Meadows on the Ridge is a mid-sized Senior Care Community nestled among the woodlands\, while conveniently located in Upper Bucks' County\, less than 30 miles north of Philadelphia.  At Hidden Meadows on the Ridge\, we offer a tranquil setting where seniors can maintain their independence with access to professional staff 24 hours a day\, 7 days a week.  Both residents and families find comfort in knowing that our experienced staff provides personalized services and nursing care.  As a pet friendly community\, small pets are welcome to reside with their owners in our spacious studio residences.\n\n \n\nPlanning for you and your loved ones lifestyle can be overwhelming.  At Hidden Meadows on the Ridge\, we offer 54 private or shared living studios and The Laurels\, our newly designed memory care residence\, offers 48 private or shared rooms\, providing you with options to meet your care needs.
X-ALT-DESC;FMTTYPE=text/html:<p><strong><span style="color:rgb(51\, 51\, 51)\; font-family:arial\,sans-serif\; font-size:10.5pt">Come Check out Bucks County&#39\;s Best Kept Secret in Senior Living!</span></strong><br />\n<br />\n<span style="color:rgb(51\, 51\, 51)\; font-family:arial\,sans-serif\; font-size:10.5pt">On <strong>Saturday\, March 24th\, 2018 from 10:00am-2:00pm</strong>\, Hidden Meadows on the Ridge and the Laurels Memory Care Community will be hosting an <strong>Open House. Tour our beautiful community and meet our staff! Refreshments and giveaways will be provided. </strong>Reservations suggested\, Walk-ins welcome. We hope to see you there!</span></p>\n\n<p><strong><span style="color:rgb(51\, 51\, 51)\; font-family:georgia\,serif\; font-size:12pt">Hidden Meadows on the Ridge</span></strong><span style="color:rgb(51\, 51\, 51)\; font-family:georgia\,serif\; font-size:12pt"> is a mid-sized Senior Care Community nestled among the woodlands\, while conveniently located in Upper Bucks&#39\; County\, less than 30 miles north of Philadelphia.&nbsp\; At <strong>Hidden Meadows on the Ridge\,</strong> we offer a tranquil setting where seniors can maintain their independence with access to professional staff 24 hours a day\, 7 days a week.&nbsp\; Both residents and families find comfort in knowing that our experienced staff provides personalized services and nursing care.&nbsp\; As a pet friendly community\, small pets are welcome to reside with their owners in our spacious studio residences.</span></p>\n\n<p><span style="color:rgb(51\, 51\, 51)\; font-family:courier new\; font-size:10pt">&nbsp\;</span></p>\n\n<p><span style="color:rgb(51\, 51\, 51)\; font-family:georgia\,serif\; font-size:12pt">Planning for you and your loved ones lifestyle can be overwhelming.&nbsp\; At <strong>Hidden Meadows on the Ridge\,</strong> we offer 54 private or shared living studios and <strong>The Laurels\,</strong> our newly designed memory care residence\, offers 48 private or shared rooms\, providing you with options to meet your care needs.</span></p>\n
LOCATION:Hidden Meadows on the Ridge & The Laurels Memory Care 340 Farmers Lane I Sellersville\, PA 18960 Phone: 215-257-6701
UID:e.2385.3273
SEQUENCE:3
DTSTAMP:20260421T174737Z
URL:https://business.chambergmc.org/events/details/hidden-meadows-on-the-ridge-open-house-event-03-24-2018-3273
END:VEVENT

END:VCALENDAR
