BEGIN:VCALENDAR
VERSION:2.0
PRODID:-//ChamberMaster//Event Calendar 2.0//EN
METHOD:PUBLISH
X-PUBLISHED-TTL:P3D
REFRESH-INTERVAL:P3D
CALSCALE:GREGORIAN
BEGIN:VEVENT
DTSTART:20190921T150000Z
DTEND:20190921T170000Z
X-MICROSOFT-CDO-ALLDAYEVENT:FALSE
SUMMARY:Hogs and Dogs
DESCRIPTION:Join us at GREENFIELD SENIOR LIVING for HOGS & DOGS!\n\n\n\nDelicious hot dogs\, fun games\, prizes and motorcycle rides!!\n\nCall 215-855-1235 with any questions about the event\n\n\nSaturday September 21st\, 2019      11am - 1pm\n\n\n\nLocation : 1800 Walnut Street\, Lansdale Pa 19446
X-ALT-DESC;FMTTYPE=text/html:<div style="text-align: center\;"><strong><span style="font-size:20px"><span style="font-family:tahoma">Join us at GREENFIELD SENIOR LIVING for HOGS &amp\; DOGS!</span></span></strong><br />\n<br />\nDelicious hot dogs\, fun games\, prizes and motorcycle rides!!<br />\nCall 215-855-1235 with any questions about the event</div>\n<br />\nSaturday September 21st\, 2019 &nbsp\; &nbsp\;&nbsp\; 11am - 1pm<br />\n<br />\nLocation : 1800 Walnut Street\, Lansdale Pa 19446
LOCATION:Greenfield Senior Living 1800 Walnut Street\, Lansdale Pa 19446
UID:e.2385.10110
SEQUENCE:3
DTSTAMP:20260423T182025Z
URL:https://business.chambergmc.org/events/details/hogs-and-dogs-10110
END:VEVENT

END:VCALENDAR
