BEGIN:VCALENDAR
VERSION:2.0
PRODID:-//ChamberMaster//Event Calendar 2.0//EN
METHOD:PUBLISH
X-PUBLISHED-TTL:P3D
REFRESH-INTERVAL:P3D
CALSCALE:GREGORIAN
BEGIN:VEVENT
DTSTART:20181213T233000Z
DTEND:20181214T003000Z
X-MICROSOFT-CDO-ALLDAYEVENT:FALSE
SUMMARY:Floral & Hardy of Skippack - Holiday Centerpiece Workshop I
DESCRIPTION:Create your own festive holiday centerpiece at F&H!  Welcome family and friends to your holiday table!!  We'll help you design a beautiful display of mixed evergreens\, fresh berries\, pine cones and accents inside a galvanized wood 16  by 6  rectangular box.  Bring your own gardening gloves and pruners or purchase them from us at a discount.  Cost is $45 (plus tax) and includes all materials. \n\n \n\nPlease RSVP:http://floralandhardyofskippack.com/events/316/holiday-centerpiece-workshop-i/
X-ALT-DESC;FMTTYPE=text/html:<div style="text-align:justify"><span style="background-color:transparent\; color:rgb(0\, 0\, 0)\; font-family:arial\,helvetica\,sans-serif\; font-size:13px">Create your own festive holiday centerpiece at F&amp\;H!&nbsp\; Welcome family and friends to your holiday table!!&nbsp\; We&rsquo\;ll help you design a beautiful display of mixed evergreens\, fresh berries\, pine cones and accents inside a galvanized wood 16&Prime\; by 6&Prime\; rectangular box.&nbsp\; Bring your own gardening gloves and pruners or purchase them from us at a discount.&nbsp\; Cost is $45 (plus tax) and includes all materials.&nbsp\;</span><br />\n&nbsp\;</div>\n\n<div><span style="background-color:transparent\; color:rgb(0\, 0\, 0)\; font-family:arial\,helvetica\,sans-serif\; font-size:13px">Please RSVP:<a href="http://floralandhardyofskippack.com/events/316/holiday-centerpiece-workshop-i/">http://floralandhardyofskippack.com/events/316/holiday-centerpiece-workshop-i/</a></span></div>\n
LOCATION:Floral & Hardy 4007 Skippack Pike Skippack\, PA 19474
UID:e.2385.8088
SEQUENCE:3
DTSTAMP:20260422T040838Z
URL:https://business.chambergmc.org/events/details/holiday-centerpiece-workshop-i-8088
END:VEVENT

END:VCALENDAR
