BEGIN:VCALENDAR
VERSION:2.0
PRODID:-//ChamberMaster//Event Calendar 2.0//EN
METHOD:PUBLISH
X-PUBLISHED-TTL:P3D
REFRESH-INTERVAL:P3D
CALSCALE:GREGORIAN
BEGIN:VEVENT
DTSTART:20221130T220000Z
DTEND:20221204T020000Z
X-MICROSOFT-CDO-ALLDAYEVENT:FALSE
SUMMARY:Holiday Lane
DESCRIPTION:Walk along a decorated and lighted " holiday lane" at the Variety Club Camp\, 2950 Potshop Rd\, Worcester\, PA 19490\, to be held\; Wednesday\, November 30th\, 5- 7:00pm: Driving ONLY Thursday & Friday\, December 1st & 2nd\, 4- 8:00pm: Walking ONLY Saturday\, December 3rd\, 4- 9:00pm: Walking ONLY $10 adults and $5 children for Walking tour $10 car and $20 van for Driving tour Hot chocolate included with ticket. Baked goods and hot food available for purchase\, along with a Holiday bazaar of homemade items by Variety kids. There will be raffles\, kid's games\, s'mores\, live entertainment\, food\, Santa\, characters\, and so much more! Family-friendly! There is no rain date.
X-ALT-DESC;FMTTYPE=text/html:Walk along a decorated and lighted &quot\; holiday lane&quot\; at the Variety Club Camp\, 2950 Potshop Rd\, Worcester\, PA 19490\, to be held\; Wednesday\, November 30th\, 5- 7:00pm: Driving ONLY Thursday &amp\; Friday\, December 1st &amp\; 2nd\, 4- 8:00pm: Walking ONLY Saturday\, December 3rd\, 4- 9:00pm: Walking ONLY $10 adults and $5 children for Walking tour $10 car and $20 van for Driving tour Hot chocolate included with ticket. Baked goods and hot food available for purchase\, along with a Holiday bazaar of homemade items by Variety kids. There will be raffles\, kid&#39\;s games\, s&#39\;mores\, live entertainment\, food\, Santa\, characters\, and so much more! Family-friendly! There is no rain date.
LOCATION:Variety Club Camp\, 2950 Potshop Rd\, Worcester\, PA 19490
UID:e.2385.11543
SEQUENCE:3
DTSTAMP:20260421T134707Z
URL:https://business.chambergmc.org/events/details/holiday-lane-11543
END:VEVENT

END:VCALENDAR
