BEGIN:VCALENDAR
VERSION:2.0
PRODID:-//ChamberMaster//Event Calendar 2.0//EN
METHOD:PUBLISH
X-PUBLISHED-TTL:P3D
REFRESH-INTERVAL:P3D
CALSCALE:GREGORIAN
BEGIN:VEVENT
DTSTART:20181108T220000Z
DTEND:20181109T020000Z
X-MICROSOFT-CDO-ALLDAYEVENT:FALSE
SUMMARY:Floral & Hardy Holiday Open House
DESCRIPTION:Kick off the magic of the holiday season during Floral & Hardy's annual open house! Enjoy our Christmas displays\, browse new items and get ideas for decorations in your own home. We'll have door prizes plus complimentary snacks and beverages!.Start earning your Basil Buck coupons\, too. Grab some friends and stop by anytime between 5 to 9 p.m. \n\n \n\nPlease RSVP: \n\nhttp://floralandhardyofskippack.com/events/301/holiday-open-house/
X-ALT-DESC;FMTTYPE=text/html:<div style="text-align:justify"><span style="background-color:transparent\; color:rgb(0\, 0\, 0)\; font-family:arial\,helvetica\,sans-serif\; font-size:16px">Kick off the magic of the holiday season during Floral &amp\; Hardy&rsquo\;s annual open house! Enjoy our Christmas displays\, browse new items and get ideas for decorations in your own home. We&rsquo\;ll have door prizes plus complimentary snacks and beverages!.Start earning your Basil Buck coupons\, too. Grab some friends and stop by anytime between 5 to 9 p.m. </span><br />\n&nbsp\;</div>\n\n<div><span style="background-color:transparent\; color:rgb(0\, 0\, 0)\; font-family:arial\,helvetica\,sans-serif\; font-size:16px">Please RSVP:&nbsp\;<br />\n<a href="http://floralandhardyofskippack.com/events/301/holiday-open-house/">http://floralandhardyofskippack.com/events/301/holiday-open-house/</a></span></div>\n
LOCATION:Floral & Hardy 4007 Skippack Pike Skippack\, PA 19474
UID:e.2385.8006
SEQUENCE:3
DTSTAMP:20260422T025141Z
URL:https://business.chambergmc.org/events/details/holiday-open-house-8006
END:VEVENT

END:VCALENDAR
