BEGIN:VCALENDAR
VERSION:2.0
PRODID:-//ChamberMaster//Event Calendar 2.0//EN
METHOD:PUBLISH
X-PUBLISHED-TTL:P3D
REFRESH-INTERVAL:P3D
CALSCALE:GREGORIAN
BEGIN:VEVENT
DTSTART:20171212T150000Z
DTEND:20171214T020000Z
X-MICROSOFT-CDO-ALLDAYEVENT:FALSE
SUMMARY:Homemade Cookie Sale
DESCRIPTION:Assorted homemade cookies will be sold in pound quantities. Only $10 per pound. Pre orders encouraged. Call 215-699-5410 to place an order. Proceeds will be used to help eliminate the Library mortgage.
X-ALT-DESC;FMTTYPE=text/html:Assorted homemade cookies will be sold in pound quantities. Only $10 per pound. Pre orders encouraged. Call 215-699-5410 to place an order. Proceeds will be used to help eliminate the Library mortgage.
LOCATION:North Wales Area Library 233 S. Swartley St. North Wales\, PA 19454
UID:e.2385.2660
SEQUENCE:3
DTSTAMP:20260421T123020Z
URL:https://business.chambergmc.org/events/details/homemade-cookie-sale-12-12-2017-2660
END:VEVENT

END:VCALENDAR
