BEGIN:VCALENDAR
VERSION:2.0
PRODID:-//ChamberMaster//Event Calendar 2.0//EN
METHOD:PUBLISH
X-PUBLISHED-TTL:P3D
REFRESH-INTERVAL:P3D
CALSCALE:GREGORIAN
BEGIN:VEVENT
DTSTART:20180628T203000Z
DTEND:20180628T223000Z
X-MICROSOFT-CDO-ALLDAYEVENT:FALSE
SUMMARY:Homewood Suites Lansdale Client Appreciation Party!
DESCRIPTION:You are invited to\n\nHomewood Suites Lansdale \n\nClient Appreciation Party\n\nWe are so grateful for all of our clients\, guests\, referrals\, and business partners.  \n\nWe hope you join us for an evening by the poolside with light fare\, beer and wine. \n\n \n\nThursday\, June 28th\, 2018\n\nFrom 4:30 pm   6:30 pm\n\n \n\n  1200 Pennbrook Parkway\n\nLansdale\, PA 19446\n\n \n\nPlease contact\n\nKate Pouy\n\nDirector of Sales\n\nKate.pouy2@hilton.com\n\n215-353-4600
X-ALT-DESC;FMTTYPE=text/html:<div style="text-align: center\;"><span style="font-family:times new roman\,serif"><span style="font-size:16.0pt">You are invited to</span></span><br />\n<strong><span style="color:#2E827A"><span style="font-family:times new roman\,serif"><span style="font-size:20.0pt">Homewood Suites Lansdale&nbsp\;</span></span></span></strong><br />\n<strong><span style="color:#2E827A"><span style="font-family:times new roman\,serif"><span style="font-size:20.0pt">Client Appreciation Party</span></span></span></strong><br />\n<span style="font-family:times new roman\,serif"><span style="font-size:12.0pt">We are so grateful for all of our clients\, guests\, referrals\, and business partners. </span></span>&nbsp\;<br />\n<span style="font-family:times new roman\,serif"><span style="font-size:12.0pt">We hope you join us for an evening by the poolside with light fare\, beer and wine. </span></span><br />\n&nbsp\;<br />\n<span style="font-size:12px"><span style="font-size:14px"><span style="font-family:times new roman\,serif">Thursday\, June 28<sup>th</sup>\, 2018</span><br />\n<span style="font-family:times new roman\,serif">From 4:30 pm &ndash\; 6:30 pm</span><br />\n&nbsp\;<br />\n<span style="font-family:times new roman\,serif">&nbsp\; 1200 Pennbrook Parkway</span><br />\n<span style="font-family:times new roman\,serif">Lansdale\, PA 19446</span></span></span><br />\n&nbsp\;</div>\n\n<div style="text-align: center\;"><span style="font-family:times new roman\,serif">Please contact</span><br />\n<span style="font-family:times new roman\,serif">Kate Pouy</span><br />\n<span style="font-family:times new roman\,serif">Director of Sales</span><br />\n<a href="mailto:Kate.pouy2@hilton.com"><span style="font-family:times new roman\,serif">Kate.pouy2@hilton.com</span></a><br />\n<span style="font-family:times new roman\,serif">215-353-4600</span></div>\n
LOCATION:Homewood Suites Lansdale 1200 Pennbrook Parkway Lansdale\, PA 19446
UID:e.2385.7728
SEQUENCE:3
DTSTAMP:20260421T214541Z
URL:https://business.chambergmc.org/events/details/homewood-suites-lansdale-client-appreciation-party-7728
END:VEVENT

END:VCALENDAR
