BEGIN:VCALENDAR
VERSION:2.0
PRODID:-//ChamberMaster//Event Calendar 2.0//EN
METHOD:PUBLISH
X-PUBLISHED-TTL:P3D
REFRESH-INTERVAL:P3D
CALSCALE:GREGORIAN
BEGIN:VEVENT
DTSTART:20210526T220000Z
DTEND:20210526T230000Z
X-MICROSOFT-CDO-ALLDAYEVENT:FALSE
SUMMARY:How Can We Fight Lanternflies and Reduce Pesticide Use?
DESCRIPTION:Join PennPIRG\, PennEnvironment and Penn State Extension's environmental health expert Michelle Niedermeier for a discussion on how we can fight invasive species like the spotted lantern fly while reducing the use of toxic pesticides. We'll also save time for a Q&A following the discussion. RSVP today through our website to get the login info:
X-ALT-DESC;FMTTYPE=text/html:Join PennPIRG\, PennEnvironment and Penn State Extension&rsquo\;s environmental health expert Michelle Niedermeier for a discussion on how we can fight invasive species like the spotted lantern fly while reducing the use of toxic pesticides. We&#39\;ll also save time for a Q&amp\;A following the discussion. RSVP today through our website to get the login info:
LOCATION:Webinar
UID:e.2385.11083
SEQUENCE:3
DTSTAMP:20260422T154550Z
URL:https://business.chambergmc.org/events/details/how-can-we-fight-lanternflies-and-reduce-pesticide-use-11083
END:VEVENT

END:VCALENDAR
