BEGIN:VCALENDAR
VERSION:2.0
PRODID:-//ChamberMaster//Event Calendar 2.0//EN
METHOD:PUBLISH
X-PUBLISHED-TTL:P3D
REFRESH-INTERVAL:P3D
CALSCALE:GREGORIAN
BEGIN:VEVENT
DTSTART:20200430T170000Z
DTEND:20200430T180000Z
X-MICROSOFT-CDO-ALLDAYEVENT:FALSE
SUMMARY:How to Strengthen Your Immune System & Stay Healthy
DESCRIPTION:This will be a live Q&A where attendees can ask Dr. Fox questions about foods\, supplements\, exercise\, allergies\, and how to stay healthy during this season.\n\n\n\nRegister via Zoom:\n\nhttps://insperity.zoom.us/webinar/register/WN_DQe8vY-xTRyg4KzU3lZauw\n\n\n\nOne of the fields you'll have to fill out is Who can we thank at Insperity for inviting you? Please enter Bill Burns.
X-ALT-DESC;FMTTYPE=text/html:This will be a live Q&amp\;A where attendees can ask Dr. Fox questions about foods\, supplements\, exercise\, allergies\, and how to stay healthy during this season.<br />\n<br />\nRegister via Zoom:<br />\n<a href="https://insperity.zoom.us/webinar/register/WN_DQe8vY-xTRyg4KzU3lZauw">https://insperity.zoom.us/webinar/register/WN_DQe8vY-xTRyg4KzU3lZauw</a><br />\n<br />\n<span style="background-color:rgb(243\, 243\, 243)\; font-family:calibri\,sans-serif\; font-size:14.6667px">One of the fields you&rsquo\;ll have to fill out is&nbsp\;</span><u>Who can we thank at Insperity for inviting you?</u><span style="font-family:calibri\,sans-serif\; font-size:14.6667px">&nbsp\;Please enter Bill Burns.</span>
LOCATION:
UID:e.2385.10345
SEQUENCE:3
DTSTAMP:20260423T105838Z
URL:https://business.chambergmc.org/events/details/how-to-strengthen-your-immune-system-stay-healthy-10345
END:VEVENT

END:VCALENDAR
