BEGIN:VCALENDAR
VERSION:2.0
PRODID:-//ChamberMaster//Event Calendar 2.0//EN
METHOD:PUBLISH
X-PUBLISHED-TTL:P3D
REFRESH-INTERVAL:P3D
CALSCALE:GREGORIAN
BEGIN:VEVENT
DTSTART:20190502T123000Z
DTEND:20190502T190000Z
X-MICROSOFT-CDO-ALLDAYEVENT:FALSE
SUMMARY:HR & Employment Law Conference
DESCRIPTION:Attend one of the top events in the Pennsylvania\, Delaware and New Jersey region for catching up on the latest trends\, insights and changes in the world of employment law! Perfect for HR professionals\, business owners and executives\, corporate counsels\, managers and supervisors\, MEA's premier annual event is always a great opportunity for learning\, information-sharing and networking.
X-ALT-DESC;FMTTYPE=text/html:Attend one of the top events in the Pennsylvania\, Delaware and New Jersey region for catching up on the latest trends\, insights and changes in the world of employment law! Perfect for HR professionals\, business owners and executives\, corporate counsels\, managers and supervisors\, MEA&rsquo\;s premier annual event is always a great opportunity for learning\, information-sharing and networking.
LOCATION:Sheraton Valley Forge Hotel 480 N. Gulph Rd.\, King of Prussia\, PA 19406
UID:e.2385.8659
SEQUENCE:3
DTSTAMP:20260422T111930Z
URL:https://business.chambergmc.org/events/details/hr-employment-law-conference-8659
END:VEVENT

END:VCALENDAR
