BEGIN:VCALENDAR
VERSION:2.0
PRODID:-//ChamberMaster//Event Calendar 2.0//EN
METHOD:PUBLISH
X-PUBLISHED-TTL:P3D
REFRESH-INTERVAL:P3D
CALSCALE:GREGORIAN
BEGIN:VEVENT
DTSTART:20181213T200000Z
DTEND:20181214T000000Z
X-MICROSOFT-CDO-ALLDAYEVENT:FALSE
SUMMARY:i76 Solutions Holiday Open House
DESCRIPTION:i76 Solutions Holiday Open House -Festive Food -Holiday Cheer -Live Holiday Music RSVP by Decemner 7th at www.i76openhouse.com
X-ALT-DESC;FMTTYPE=text/html:i76 Solutions Holiday Open House -Festive Food -Holiday Cheer -Live Holiday Music RSVP by Decemner 7th at www.i76openhouse.com
LOCATION:676 West Germantown Pike Plymouth Meeting PA 19462
UID:e.2385.8101
SEQUENCE:3
DTSTAMP:20260422T040838Z
URL:https://business.chambergmc.org/events/details/i76-solutions-holiday-open-house-8101
END:VEVENT

END:VCALENDAR
