BEGIN:VCALENDAR
VERSION:2.0
PRODID:-//ChamberMaster//Event Calendar 2.0//EN
METHOD:PUBLISH
X-PUBLISHED-TTL:P3D
REFRESH-INTERVAL:P3D
CALSCALE:GREGORIAN
BEGIN:VEVENT
DTSTART:20200428T150000Z
DTEND:20200428T160000Z
X-MICROSOFT-CDO-ALLDAYEVENT:FALSE
SUMMARY:Insperity Business Resilience Series: Session 3 – Returning to the Workplace
DESCRIPTION:Register via Zoom:\n\nhttps://insperity.zoom.us/webinar/register/WN_ML5IfSwkSoq7t2B9vSznZA\n\n\n\nOne of the fields you'll have to fill out is Who can we thank at Insperity for inviting you? Please enter Bill Burns.
X-ALT-DESC;FMTTYPE=text/html:Register via Zoom:<br />\n<a href="https://insperity.zoom.us/webinar/register/WN_ML5IfSwkSoq7t2B9vSznZA">https://insperity.zoom.us/webinar/register/WN_ML5IfSwkSoq7t2B9vSznZA</a><br />\n<br />\n<span style="font-family:calibri\,sans-serif"><span style="font-size:11.0pt">One of the fields you&rsquo\;ll have to fill out is <u>Who can we thank at Insperity for inviting you?</u><strong> Please enter Bill Burns.</strong></span></span>
LOCATION:
UID:e.2385.10342
SEQUENCE:3
DTSTAMP:20260423T093428Z
URL:https://business.chambergmc.org/events/details/insperity-business-resilience-series-session-3-returning-to-the-workplace-10342
END:VEVENT

END:VCALENDAR
