BEGIN:VCALENDAR
VERSION:2.0
PRODID:-//ChamberMaster//Event Calendar 2.0//EN
METHOD:PUBLISH
X-PUBLISHED-TTL:P3D
REFRESH-INTERVAL:P3D
CALSCALE:GREGORIAN
BEGIN:VEVENT
DTSTART:20200602T200000Z
DTEND:20200602T213000Z
X-MICROSOFT-CDO-ALLDAYEVENT:FALSE
SUMMARY:Integrate for Good Networking Party!
DESCRIPTION:We all need some fun right now and Integrate for Good is ready to bring it!\n\n\n\nPut something fun on your calendar! Join us on June 2nd! Share what you do with a diverse crowd. Play our fan favorite "Name that Quaran-tune!" Win great prizes!\n\n\n\nWe're already half-way to a sold-out event! Grab your seat today! Don't miss out!\n\n\n\nLearn more and register here.  Advance registration is required: https://secure.givelively.org/event/integrate-for-good/integrate-for-good-virtual-networking-party
X-ALT-DESC;FMTTYPE=text/html:<span style="color:rgba(0\, 0\, 0\, 0.9)\; font-family:-apple-system\,system-ui\,system-ui\,segoe ui\,roboto\,helvetica neue\,fira sans\,ubuntu\,oxygen\,oxygen sans\,cantarell\,droid sans\,apple color emoji\,segoe ui emoji\,segoe ui symbol\,lucida grande\,helvetica\,arial\,sans-serif\; font-size:14px">We all need some fun right now and Integrate for Good is ready to bring it!</span><br />\n<br />\n<span style="color:rgba(0\, 0\, 0\, 0.9)\; font-family:-apple-system\,system-ui\,system-ui\,segoe ui\,roboto\,helvetica neue\,fira sans\,ubuntu\,oxygen\,oxygen sans\,cantarell\,droid sans\,apple color emoji\,segoe ui emoji\,segoe ui symbol\,lucida grande\,helvetica\,arial\,sans-serif\; font-size:14px">Put something fun on your calendar! Join us on June 2nd! Share what you do with a diverse crowd. Play our fan favorite &quot\;Name that Quaran-tune!&quot\; Win great prizes!</span><br />\n<br />\n<span style="color:rgba(0\, 0\, 0\, 0.9)\; font-family:-apple-system\,system-ui\,system-ui\,segoe ui\,roboto\,helvetica neue\,fira sans\,ubuntu\,oxygen\,oxygen sans\,cantarell\,droid sans\,apple color emoji\,segoe ui emoji\,segoe ui symbol\,lucida grande\,helvetica\,arial\,sans-serif\; font-size:14px">We&#39\;re already half-way to a sold-out event! Grab your seat today! Don&#39\;t miss out!<br />\n<br />\nLearn more and register here.&nbsp\; Advance registration is required:&nbsp\;</span>https://secure.givelively.org/event/integrate-for-good/integrate-for-good-virtual-networking-party<br />\n&nbsp\;
LOCATION:Zoom link will be sent upon registration.
UID:e.2385.10374
SEQUENCE:3
DTSTAMP:20260423T070159Z
URL:https://business.chambergmc.org/events/details/integrate-for-good-networking-party-10374
END:VEVENT

END:VCALENDAR
