BEGIN:VCALENDAR
VERSION:2.0
PRODID:-//ChamberMaster//Event Calendar 2.0//EN
METHOD:PUBLISH
X-PUBLISHED-TTL:P3D
REFRESH-INTERVAL:P3D
CALSCALE:GREGORIAN
BEGIN:VEVENT
DTSTART:20180309T230000Z
DTEND:20180310T010000Z
X-MICROSOFT-CDO-ALLDAYEVENT:FALSE
SUMMARY:International Dinner Series
DESCRIPTION:Cardinal Hollow Winery introduces our International Dinner Series beginning on March 9 with our Irish Menu.
X-ALT-DESC;FMTTYPE=text/html:Cardinal Hollow Winery introduces our International Dinner Series beginning on March 9 with our Irish Menu.
LOCATION:Cardinal Hollow Winery 1830 West Point Pike West Point\, PA 19486
UID:e.2385.3052
SEQUENCE:3
DTSTAMP:20260421T162254Z
URL:https://business.chambergmc.org/events/details/international-dinner-series-03-09-2018-3052
END:VEVENT

END:VCALENDAR
