BEGIN:VCALENDAR
VERSION:2.0
PRODID:-//ChamberMaster//Event Calendar 2.0//EN
METHOD:PUBLISH
X-PUBLISHED-TTL:P3D
REFRESH-INTERVAL:P3D
CALSCALE:GREGORIAN
BEGIN:VEVENT
DTSTART:20181119T000000Z
DTEND:20181119T010000Z
X-MICROSOFT-CDO-ALLDAYEVENT:FALSE
SUMMARY:Intro to Ballroom Open House 18+
DESCRIPTION:Interested in learning more about Ballroom dancing\, but not ready to sign up for a class yet? Join Ms. Katrina on Sunday\, November 18th from 7:00-8:00 PM for a FREE introduction to ballroom dancing! Dancers will learn the basics of ballroom and be up on the dance floor in no time! This class is open to those ages 18+\, no experience is necessary and both singles and couples are welcome.
X-ALT-DESC;FMTTYPE=text/html:Interested in learning more about Ballroom dancing\, but not ready to sign up for a class yet? Join Ms. Katrina on Sunday\, November 18th from 7:00-8:00 PM for a FREE introduction to ballroom dancing! Dancers will learn the basics of ballroom and be up on the dance floor in no time! This class is open to those ages 18+\, no experience is necessary and both singles and couples are welcome.
LOCATION:Parks and Recreation Building at Miles Park 4021 Joshua Road Lafayette Hill\, PA 19444
UID:e.2385.8094
SEQUENCE:3
DTSTAMP:20260422T025505Z
URL:https://business.chambergmc.org/events/details/intro-to-ballroom-open-house-18-8094
END:VEVENT

END:VCALENDAR
