BEGIN:VCALENDAR
VERSION:2.0
PRODID:-//ChamberMaster//Event Calendar 2.0//EN
METHOD:PUBLISH
X-PUBLISHED-TTL:P3D
REFRESH-INTERVAL:P3D
CALSCALE:GREGORIAN
BEGIN:VEVENT
DTSTART:20190601T150000Z
DTEND:20190601T200000Z
X-MICROSOFT-CDO-ALLDAYEVENT:FALSE
SUMMARY:Is Your TV Smarter Than You?
DESCRIPTION:Are you taking advantage of your Smart TV\, or is your Smart TV taking advantage of you? Come learn how you can get the most of your connected entertainment. Session times are 11AM\, 1PM\, and 3PM. We'll talk about streaming services such as popular TV apps like Netflix\, Amazon Prime Video\, Hulu\, Vudu and more - how to get them and how to use them. We'll show you how to get the best picture quality when streaming\, as well as understand the big differences between Sony\, LG\, and Samsung. If you want to geek out\, we can also dive into what powers the operating systems behind these 3 top TV brands. This event is free but seats are limited. Reserve your spot\, now!
X-ALT-DESC;FMTTYPE=text/html:Are you taking advantage of your Smart TV\, or is your Smart TV taking advantage of you? Come learn how you can get the most of your connected entertainment. Session times are 11AM\, 1PM\, and 3PM. We&#39\;ll talk about streaming services such as popular TV apps like Netflix\, Amazon Prime Video\, Hulu\, Vudu and more - how to get them and how to use them. We&#39\;ll show you how to get the best picture quality when streaming\, as well as understand the big differences between Sony\, LG\, and Samsung. If you want to geek out\, we can also dive into what powers the operating systems behind these 3 top TV brands. This event is free but seats are limited. Reserve your spot\, now!
LOCATION:World Wide Stereo: 38 Greenfield Ave. Ardmore\, PA 19003
UID:e.2385.8780
SEQUENCE:3
DTSTAMP:20260422T141109Z
URL:https://business.chambergmc.org/events/details/is-your-tv-smarter-than-you-8780
END:VEVENT

END:VCALENDAR
