BEGIN:VCALENDAR
VERSION:2.0
PRODID:-//ChamberMaster//Event Calendar 2.0//EN
METHOD:PUBLISH
X-PUBLISHED-TTL:P3D
REFRESH-INTERVAL:P3D
CALSCALE:GREGORIAN
BEGIN:VEVENT
DTSTART;VALUE=DATE:20210422
DTEND;VALUE=DATE:20210423
TRANSP:TRANSPARENT
X-MICROSOFT-CDO-ALLDAYEVENT:TRUE
SUMMARY:Join us on April 22nd for our Spring Fling.
DESCRIPTION:Join us on April 22nd for our Spring Fling.\n\nDJ \n\nPatio open \n\nComplimentary Drink Tastings \n\n( 6pm to 8pm )
X-ALT-DESC;FMTTYPE=text/html:<div><span dir="auto" style="color:var(--primary-text)\; font-family:system-ui\,-apple-system\,blinkmacsystemfont\,.sfnstext-regular\,sans-serif\; font-size:0.9375rem">Join us on April 22nd for our Spring Fling.<br />\nDJ&nbsp\;<br />\nPatio open&nbsp\;<br />\nComplimentary Drink Tastings&nbsp\;<br />\n( 6pm to 8pm )</span></div>\n
LOCATION:El Sarape Blue Bell (610) 239-9466 970 Dekalb Pike\, Blue Bell\, PA 19422 (610) 239-9466 www.elsarapebluebell.com
UID:e.2385.11056
SEQUENCE:3
DTSTAMP:20260422T171524Z
URL:https://business.chambergmc.org/events/details/join-us-on-april-22nd-for-our-spring-fling-11056
END:VEVENT

END:VCALENDAR
