BEGIN:VCALENDAR
VERSION:2.0
PRODID:-//ChamberMaster//Event Calendar 2.0//EN
METHOD:PUBLISH
X-PUBLISHED-TTL:P3D
REFRESH-INTERVAL:P3D
CALSCALE:GREGORIAN
BEGIN:VEVENT
DTSTART:20190504T160000Z
DTEND:20190505T040000Z
X-MICROSOFT-CDO-ALLDAYEVENT:FALSE
SUMMARY:KENTUCKY DERBY PARTY
DESCRIPTION:Kentucky Derby party ALL DAY LONG! Ladies: Break out those derby hats\, grab mint julep and receive a FREE Brothers Kershner Pink Ball Cap!
X-ALT-DESC;FMTTYPE=text/html:Kentucky Derby party ALL DAY LONG! Ladies: Break out those derby hats\, grab mint julep and receive a FREE Brothers Kershner Pink Ball Cap!
LOCATION:Brothers Kershner Brewing Co. 4119 Skippack Pike Skippack\, PA 19474
UID:e.2385.8719
SEQUENCE:3
DTSTAMP:20260422T111839Z
URL:https://business.chambergmc.org/events/details/kentucky-derby-party-8719
END:VEVENT

END:VCALENDAR
