BEGIN:VCALENDAR
VERSION:2.0
PRODID:-//ChamberMaster//Event Calendar 2.0//EN
METHOD:PUBLISH
X-PUBLISHED-TTL:P3D
REFRESH-INTERVAL:P3D
CALSCALE:GREGORIAN
BEGIN:VEVENT
DTSTART:20190622T150000Z
DTEND:20190622T190000Z
X-MICROSOFT-CDO-ALLDAYEVENT:FALSE
SUMMARY:Kids Summer Breeze Party
DESCRIPTION:$5 ALL YOU CAN EAT Taco Bar - Games - Pinatas - Cotton Candy Machine - Balloon Artists - Free Raffle -1000.00 value and soooo much more!
X-ALT-DESC;FMTTYPE=text/html:$5 ALL YOU CAN EAT Taco Bar - Games - Pinatas - Cotton Candy Machine - Balloon Artists - Free Raffle -1000.00 value and soooo much more!
LOCATION:Margaritas - Lansdale 1650 Sumneytown Pike Lansdale\, PA
UID:e.2385.8812
SEQUENCE:3
DTSTAMP:20260422T123807Z
URL:https://business.chambergmc.org/events/details/kids-summer-breeze-party-8812
END:VEVENT

END:VCALENDAR
