BEGIN:VCALENDAR
VERSION:2.0
PRODID:-//ChamberMaster//Event Calendar 2.0//EN
METHOD:PUBLISH
X-PUBLISHED-TTL:P3D
REFRESH-INTERVAL:P3D
CALSCALE:GREGORIAN
BEGIN:VEVENT
DTSTART:20190302T160000Z
DTEND:20190302T173000Z
X-MICROSOFT-CDO-ALLDAYEVENT:FALSE
SUMMARY:Krav-Maga Self Defense Workshop
DESCRIPTION:Looking strong\, alert\, confident\, and healthy is the first line of defense against an assault. But if the unthinkable were to happen\, would you be able to defend yourself? Join instructors from DeStolfo's Premier Martial Arts for this Krav Maga-based Self Defense Workshop and gain the lifesaving tools and confidence you need to be able to defend yourself in unforeseen circumstances. This workshop is designed for male & female adults over the age of 18. Pre-Registration is required. Call the Parks & Recreation Department to register today!
X-ALT-DESC;FMTTYPE=text/html:Looking strong\, alert\, confident\, and healthy is the first line of defense against an assault. But if the unthinkable were to happen\, would you be able to defend yourself? Join instructors from DeStolfo&rsquo\;s Premier Martial Arts for this Krav Maga-based Self Defense Workshop and gain the lifesaving tools and confidence you need to be able to defend yourself in unforeseen circumstances. This workshop is designed for male &amp\; female adults over the age of 18. Pre-Registration is required. Call the Parks &amp\; Recreation Department to register today!
LOCATION:Parks and Recreation Building at Miles Park
UID:e.2385.8129
SEQUENCE:3
DTSTAMP:20260422T082519Z
URL:https://business.chambergmc.org/events/details/krav-maga-self-defense-workshop-8129
END:VEVENT

END:VCALENDAR
