BEGIN:VCALENDAR
VERSION:2.0
PRODID:-//ChamberMaster//Event Calendar 2.0//EN
METHOD:PUBLISH
X-PUBLISHED-TTL:P3D
REFRESH-INTERVAL:P3D
CALSCALE:GREGORIAN
BEGIN:VEVENT
DTSTART:20180301T213000Z
DTEND:20180301T232500Z
X-MICROSOFT-CDO-ALLDAYEVENT:FALSE
SUMMARY:Kyffin Grove Networking Event at Iron Hill Brewery
DESCRIPTION:Here's a chance to connect with your colleagues and toast to new opportunities. Bring a coworker or your significant other and join us at Iron Hill Brewery.  Kyffin Grove will supply fabulous food and drinks and your colleagues will bring the conversation.  Door Prize!  Each attendee will be entered into a drawing to win the latest Alexa!
X-ALT-DESC;FMTTYPE=text/html:Here&#39\;s a chance to connect with your colleagues and toast to new opportunities. Bring a coworker or your significant other and join us at Iron Hill Brewery.&nbsp\; Kyffin Grove will supply fabulous food and drinks and your colleagues will bring the conversation.&nbsp\; Door Prize!&nbsp\; Each attendee will be entered into a drawing to win the latest Alexa!
LOCATION:Iron Hill Brewery The Shoppes at English Village 1460 Bethlehem Pike North Wales\, PA
UID:e.2385.3255
SEQUENCE:3
DTSTAMP:20260421T163937Z
URL:https://business.chambergmc.org/events/details/kyffin-grove-networking-event-at-iron-hill-brewery-03-01-2018-3255
END:VEVENT

END:VCALENDAR
