BEGIN:VCALENDAR
VERSION:2.0
PRODID:-//ChamberMaster//Event Calendar 2.0//EN
METHOD:PUBLISH
X-PUBLISHED-TTL:P3D
REFRESH-INTERVAL:P3D
CALSCALE:GREGORIAN
BEGIN:VEVENT
DTSTART;VALUE=DATE:20180801
DTEND;VALUE=DATE:20180802
TRANSP:TRANSPARENT
X-MICROSOFT-CDO-ALLDAYEVENT:TRUE
SUMMARY:Ladies Night Every Wednesday!
DESCRIPTION:Ladies come and enjoy the evening and our delicious Margaritas and Mojitos.  Bring friends and make new ones!
X-ALT-DESC;FMTTYPE=text/html:<span style="background-color:rgb(255\, 255\, 255)\; color:rgb(29\, 33\, 41)\; font-family:helvetica\,arial\,sans-serif\; font-size:12px">Ladies come and enjoy the evening and our delicious Margaritas and Mojitos.&nbsp\; Bring friends and make new ones!</span>
LOCATION:El Sarape Restaurant 970 Dekalb Pike Blue Bell\, PA
UID:e.2385.7847
SEQUENCE:3
DTSTAMP:20260421T230426Z
URL:https://business.chambergmc.org/events/details/ladies-night-every-wednesday-7847
END:VEVENT

END:VCALENDAR
