BEGIN:VCALENDAR
VERSION:2.0
PRODID:-//ChamberMaster//Event Calendar 2.0//EN
METHOD:PUBLISH
X-PUBLISHED-TTL:P3D
REFRESH-INTERVAL:P3D
CALSCALE:GREGORIAN
BEGIN:VEVENT
DTSTART:20180602T140000Z
DTEND:20180602T200000Z
X-MICROSOFT-CDO-ALLDAYEVENT:FALSE
SUMMARY:Lansdale Day
DESCRIPTION:Come out for the fun of Lansdale Day's 41st year! North Penn Rotary presents this event to raise funds to benefit charities and local community service organizations. Events will include: Festival of Fine Artists & Selected Artisans Ultimate Bungee & Trampoline Live Music & Entertainment Beer & Wine Garden Food Courts/Food Trucks Community Marketplace New Car Show! Main Street Downtown Lansdale\, PA FREE Admission   FREE Parking First Saturday of June - JUNE 2\, 2018 10:00 am to 4:00 pm (Rain Date - Sunday\, June 3rd)
X-ALT-DESC;FMTTYPE=text/html:Come out for the fun of Lansdale Day&#39\;s 41st year! North Penn Rotary presents this event to raise funds to benefit charities and local community service organizations. Events will include: Festival of Fine Artists &amp\; Selected Artisans Ultimate Bungee &amp\; Trampoline Live Music &amp\; Entertainment Beer &amp\; Wine Garden Food Courts/Food Trucks Community Marketplace New Car Show! Main Street Downtown Lansdale\, PA FREE Admission &bull\; FREE Parking First Saturday of June - JUNE 2\, 2018 10:00 am to 4:00 pm (Rain Date - Sunday\, June 3rd)
LOCATION:Downtown Main Street Lansdale. Between Broad Street and Richardson.
UID:e.2385.6649
SEQUENCE:3
DTSTAMP:20260421T201853Z
URL:https://business.chambergmc.org/events/details/lansdale-day-06-02-2018-6649
END:VEVENT

END:VCALENDAR
