BEGIN:VCALENDAR
VERSION:2.0
PRODID:-//ChamberMaster//Event Calendar 2.0//EN
METHOD:PUBLISH
X-PUBLISHED-TTL:P3D
REFRESH-INTERVAL:P3D
CALSCALE:GREGORIAN
BEGIN:VEVENT
DTSTART:20191001T170000Z
DTEND:20191001T200000Z
X-MICROSOFT-CDO-ALLDAYEVENT:FALSE
SUMMARY:Laser Therapy Open House
DESCRIPTION:COME ONE\, COME ALL!! We are having a Deep Tissue Laser OPEN HOUSE!!! The open house will be Tuesday\, October 1st from 1-4pm! This open house will be to educate on the benefits of Laser Therapy and to determine how Laser Therapy can help you! If you would like to sign up for this amazing event\, call 215.393.4950 and reserve your spot today! Don't hesitate to call if you have any questions!
X-ALT-DESC;FMTTYPE=text/html:COME ONE\, COME ALL!! We are having a Deep Tissue Laser OPEN HOUSE!!! The open house will be Tuesday\, October 1st from 1-4pm! This open house will be to educate on the benefits of Laser Therapy and to determine how Laser Therapy can help you! If you would like to sign up for this amazing event\, call 215.393.4950 and reserve your spot today! Don&#39\;t hesitate to call if you have any questions!
LOCATION:HealthSource of North Penn 632 E Main Street Lansdale PA 19446
UID:e.2385.10112
SEQUENCE:3
DTSTAMP:20260423T165555Z
URL:https://business.chambergmc.org/events/details/laser-therapy-open-house-10112
END:VEVENT

END:VCALENDAR
